Workbook

Sheet Monday
A3: Mens Division 1 | B3: Played | C3: Win | D3: Loss | E3: Draw | F3: For | G3: Against | H3: Points | I3: Position
A4: =Men!AS3 -> K1w1 Dragons Men | B4: =Men!AT3 -> 6 | C4: =Men!AU3 -> 6 | D4: =Men!AV3 -> 0 | E4: =Men!AW3 -> 0 | F4: =Men!AX3 -> 51 | G4: =Men!AY3 -> 18 | H4: =Men!AZ3 -> 18 | I4: =Men!BA3 -> 1
A5: =Men!AS4 -> Coyote Young guns | B5: =Men!AT4 -> 6 | C5: =Men!AU4 -> 4 | D5: =Men!AV4 -> 2 | E5: =Men!AW4 -> 0 | F5: =Men!AX4 -> 40 | G5: =Men!AY4 -> 25 | H5: =Men!AZ4 -> 14 | I5: =Men!BA4 -> 2
A6: =Men!AS5 -> Laser Bears | B6: =Men!AT5 -> 6 | C6: =Men!AU5 -> 1 | D6: =Men!AV5 -> 5 | E6: =Men!AW5 -> 0 | F6: =Men!AX5 -> 22 | G6: =Men!AY5 -> 45 | H6: =Men!AZ5 -> 8 | I6: =Men!BA5 -> 3
A7: =Men!AS6 -> Mavericks | B7: =Men!AT6 -> 6 | C7: =Men!AU6 -> 1 | D7: =Men!AV6 -> 5 | E7: =Men!AW6 -> 0 | F7: =Men!AX6 -> 19 | G7: =Men!AY6 -> 44 | H7: =Men!AZ6 -> 8 | I7: =Men!BA6 -> 4
A10: Mens Division 2 | B10: Played | C10: Win | D10: Loss | E10: Draw | F10: For | G10: Against | H10: Points | I10: Position
A11: =Men!AS16 -> Skippers | B11: =Men!AT16 -> 7 | C11: =Men!AU16 -> 6 | D11: =Men!AV16 -> 1 | E11: =Men!AW16 -> 0 | F11: =Men!AX16 -> 37 | G11: =Men!AY16 -> 24 | H11: =Men!AZ16 -> 19 | I11: =Men!BA16 -> 1
A12: =Men!AS17 -> Varsity Vandals Men | B12: =Men!AT17 -> 7 | C12: =Men!AU17 -> 5 | D12: =Men!AV17 -> 2 | E12: =Men!AW17 -> 0 | F12: =Men!AX17 -> 42 | G12: =Men!AY17 -> 26 | H12: =Men!AZ17 -> 17 | I12: =Men!BA17 -> 2
A13: =Men!AS18 -> Puffins | B13: =Men!AT18 -> 7 | C13: =Men!AU18 -> 4 | D13: =Men!AV18 -> 3 | E13: =Men!AW18 -> 0 | F13: =Men!AX18 -> 39 | G13: =Men!AY18 -> 40 | H13: =Men!AZ18 -> 15 | I13: =Men!BA18 -> 3
A14: =Men!AS19 -> Pentrebane Panthers | B14: =Men!AT19 -> 7 | C14: =Men!AU19 -> 3 | D14: =Men!AV19 -> 4 | E14: =Men!AW19 -> 0 | F14: =Men!AX19 -> 26 | G14: =Men!AY19 -> 35 | H14: =Men!AZ19 -> 13 | I14: =Men!BA19 -> 4
A15: =Men!AS20 -> Coyote Wmn2 | B15: =Men!AT20 -> 7 | C15: =Men!AU20 -> 3 | D15: =Men!AV20 -> 4 | E15: =Men!AW20 -> 0 | F15: =Men!AX20 -> 33 | G15: =Men!AY20 -> 39 | H15: =Men!AZ20 -> 13 | I15: =Men!BA20 -> 5
A16: =Men!AS21 -> Plasmawr Stags | B16: =Men!AT21 -> 7 | C16: =Men!AU21 -> 3 | D16: =Men!AV21 -> 4 | E16: =Men!AW21 -> 0 | F16: =Men!AX21 -> 35 | G16: =Men!AY21 -> 35 | H16: =Men!AZ21 -> 13 | I16: =Men!BA21 -> 6
A17: =Men!AS22 -> Coyotes Men2 | B17: =Men!AT22 -> 7 | C17: =Men!AU22 -> 2 | D17: =Men!AV22 -> 5 | E17: =Men!AW22 -> 0 | F17: =Men!AX22 -> 28 | G17: =Men!AY22 -> 37 | H17: =Men!AZ22 -> 11 | I17: =Men!BA22 -> 7
A18: =Men!AS23 -> Wolf of Whistlers | B18: =Men!AT23 -> 7 | C18: =Men!AU23 -> 2 | D18: =Men!AV23 -> 3 | E18: =Men!AW23 -> 0 | F18: =Men!AX23 -> 31 | G18: =Men!AY23 -> 35 | H18: =Men!AZ23 -> 9 | I18: =Men!BA23 -> 8
A21: Mens Division 3 | B21: Played | C21: Win | D21: Loss | E21: Draw | F21: For | G21: Against | H21: Points | I21: Position
A22: =Men!AS36 -> Cricc | B22: =Men!AT36 -> 7 | C22: =Men!AU36 -> 5 | D22: =Men!AV36 -> 0 | E22: =Men!AW36 -> 2 | F22: =Men!AX36 -> 34 | G22: =Men!AY36 -> 20 | H22: =Men!AZ36 -> 19 | I22: =Men!BA36 -> 1
A23: =Men!AS37 -> Old Ferrets | B23: =Men!AT37 -> 7 | C23: =Men!AU37 -> 5 | D23: =Men!AV37 -> 1 | E23: =Men!AW37 -> 1 | F23: =Men!AX37 -> 38 | G23: =Men!AY37 -> 25 | H23: =Men!AZ37 -> 18 | I23: =Men!BA37 -> 2
A24: =Men!AS38 -> Cewri Canna | B24: =Men!AT38 -> 7 | C24: =Men!AU38 -> 5 | D24: =Men!AV38 -> 1 | E24: =Men!AW38 -> 0 | F24: =Men!AX38 -> 40 | G24: =Men!AY38 -> 31 | H24: =Men!AZ38 -> 16 | I24: =Men!BA38 -> 3
A25: =Men!AS39 -> ARUP | B25: =Men!AT39 -> 7 | C25: =Men!AU39 -> 4 | D25: =Men!AV39 -> 3 | E25: =Men!AW39 -> 0 | F25: =Men!AX39 -> 55 | G25: =Men!AY39 -> 38 | H25: =Men!AZ39 -> 15 | I25: =Men!BA39 -> 4
A26: =Men!AS40 -> Coyote Jnrs | B26: =Men!AT40 -> 7 | C26: =Men!AU40 -> 3 | D26: =Men!AV40 -> 3 | E26: =Men!AW40 -> 1 | F26: =Men!AX40 -> 34 | G26: =Men!AY40 -> 38 | H26: =Men!AZ40 -> 14 | I26: =Men!BA40 -> 5
A27: =Men!AS41 -> Stout Stormers | B27: =Men!AT41 -> 7 | C27: =Men!AU41 -> 2 | D27: =Men!AV41 -> 5 | E27: =Men!AW41 -> 0 | F27: =Men!AX41 -> 33 | G27: =Men!AY41 -> 41 | H27: =Men!AZ41 -> 11 | I27: =Men!BA41 -> 6
A28: =Men!AS42 -> Goblins | B28: =Men!AT42 -> 7 | C28: =Men!AU42 -> 2 | D28: =Men!AV42 -> 5 | E28: =Men!AW42 -> 0 | F28: =Men!AX42 -> 31 | G28: =Men!AY42 -> 38 | H28: =Men!AZ42 -> 11 | I28: =Men!BA42 -> 7
A29: =Men!AS43 -> Touch of Class | B29: =Men!AT43 -> 7 | C29: =Men!AU43 -> 1 | D29: =Men!AV43 -> 6 | E29: =Men!AW43 -> 0 | F29: =Men!AX43 -> 27 | G29: =Men!AY43 -> 49 | H29: =Men!AZ43 -> 9 | I29: =Men!BA43 -> 8
A32: Womens Division | B32: Played | C32: Win | D32: Loss | E32: Draw | F32: For | G32: Against | H32: Points | I32: Position
A33: =Women!AJ3 -> Kiwi Dragons W | B33: =Women!AK3 -> 7 | C33: =Women!AL3 -> 7 | D33: =Women!AM3 -> 0 | E33: =Women!AN3 -> 0 | F33: =Women!AO3 -> 48 | G33: =Women!AP3 -> 10 | H33: =Women!AQ3 -> 21 | I33: =Women!AR3 -> 1
A34: =Women!AJ4 -> Kiwi Dragons W2 | B34: =Women!AK4 -> 7 | C34: =Women!AL4 -> 5 | D34: =Women!AM4 -> 1 | E34: =Women!AN4 -> 1 | F34: =Women!AO4 -> 44 | G34: =Women!AP4 -> 15 | H34: =Women!AQ4 -> 18 | I34: =Women!AR4 -> 2
A35: =Women!AJ5 -> Coyote Ladies2 | B35: =Women!AK5 -> 7 | C35: =Women!AL5 -> 5 | D35: =Women!AM5 -> 2 | E35: =Women!AN5 -> 0 | F35: =Women!AO5 -> 42 | G35: =Women!AP5 -> 16 | H35: =Women!AQ5 -> 17 | I35: =Women!AR5 -> 3
A36: =Women!AJ6 -> Coyote Ladies1 | B36: =Women!AK6 -> 7 | C36: =Women!AL6 -> 4 | D36: =Women!AM6 -> 2 | E36: =Women!AN6 -> 1 | F36: =Women!AO6 -> 30 | G36: =Women!AP6 -> 27 | H36: =Women!AQ6 -> 16 | I36: =Women!AR6 -> 4
A37: =Women!AJ7 -> Vandals Merched | B37: =Women!AK7 -> 7 | C37: =Women!AL7 -> 3 | D37: =Women!AM7 -> 3 | E37: =Women!AN7 -> 0 | F37: =Women!AO7 -> 17 | G37: =Women!AP7 -> 29 | H37: =Women!AQ7 -> 12 | I37: =Women!AR7 -> 5
A38: =Women!AJ8 -> Coyote Pups2 | B38: =Women!AK8 -> 7 | C38: =Women!AL8 -> 2 | D38: =Women!AM8 -> 5 | E38: =Women!AN8 -> 0 | F38: =Women!AO8 -> 22 | G38: =Women!AP8 -> 37 | H38: =Women!AQ8 -> 11 | I38: =Women!AR8 -> 6
A39: =Women!AJ9 -> Coyote Pups1 | B39: =Women!AK9 -> 7 | C39: =Women!AL9 -> 1 | D39: =Women!AM9 -> 6 | E39: =Women!AN9 -> 0 | F39: =Women!AO9 -> 13 | G39: =Women!AP9 -> 47 | H39: =Women!AQ9 -> 9 | I39: =Women!AR9 -> 7
A40: =Women!AJ10 -> bye | B40: =Women!AK10 -> 7 | C40: =Women!AL10 -> 0 | D40: =Women!AM10 -> 0 | E40: =Women!AN10 -> 0 | F40: =Women!AO10 -> 0 | G40: =Women!AP10 -> 35 | H40: =Women!AQ10 -> 0 | I40: =Women!AR10 -> 8

Sheet Thursday
A3: Division 1 | B3: Played | C3: Win | D3: Loss | E3: Draw | F3: For | G3: Against | H3: Points | I3: Position
A4: =Mixed!AP3 -> Kiwi Dragons | B4: =Mixed!AQ3 -> 5 | C4: =Mixed!AR3 -> 5 | D4: =Mixed!AS3 -> 0 | E4: =Mixed!AT3 -> 0 | F4: =Mixed!AU3 -> 43 | G4: =Mixed!AV3 -> 19 | H4: =Mixed!AW3 -> 15 | I4: =Mixed!AX3 -> 1
A5: =Mixed!AP4 -> Varsity Vandals | B5: =Mixed!AQ4 -> 5 | C5: =Mixed!AR4 -> 2 | D5: =Mixed!AS4 -> 3 | E5: =Mixed!AT4 -> 0 | F5: =Mixed!AU4 -> 32 | G5: =Mixed!AV4 -> 36 | H5: =Mixed!AW4 -> 9 | I5: =Mixed!AX4 -> 2
A6: =Mixed!AP5 -> Coyotes grey | B6: =Mixed!AQ5 -> 4 | C6: =Mixed!AR5 -> 2 | D6: =Mixed!AS5 -> 2 | E6: =Mixed!AT5 -> 0 | F6: =Mixed!AU5 -> 24 | G6: =Mixed!AV5 -> 17 | H6: =Mixed!AW5 -> 8 | I6: =Mixed!AX5 -> 3
A7: =Mixed!AP6 -> Coyotes black | B7: =Mixed!AQ6 -> 4 | C7: =Mixed!AR6 -> 0 | D7: =Mixed!AS6 -> 4 | E7: =Mixed!AT6 -> 0 | F7: =Mixed!AU6 -> 11 | G7: =Mixed!AV6 -> 38 | H7: =Mixed!AW6 -> 4 | I7: =Mixed!AX6 -> 4
A10: Division 2 | B10: Played | C10: Win | D10: Loss | E10: Draw | F10: For | G10: Against | H10: Points | I10: Position
A11: =Mixed!AP20 -> KDT Juniors | B11: =Mixed!AQ20 -> 9 | C11: =Mixed!AR20 -> 7 | D11: =Mixed!AS20 -> 2 | E11: =Mixed!AT20 -> 0 | F11: =Mixed!AU20 -> 63 | G11: =Mixed!AV20 -> 26 | H11: =Mixed!AW20 -> 23 | I11: =Mixed!AX20 -> 1
A12: =Mixed!AP21 -> YGB y fro | B12: =Mixed!AQ21 -> 9 | C12: =Mixed!AR21 -> 6 | D12: =Mixed!AS21 -> 2 | E12: =Mixed!AT21 -> 1 | F12: =Mixed!AU21 -> 50 | G12: =Mixed!AV21 -> 27 | H12: =Mixed!AW21 -> 22 | I12: =Mixed!AX21 -> 2
A13: =Mixed!AP22 -> Coyotes White | B13: =Mixed!AQ22 -> 9 | C13: =Mixed!AR22 -> 4 | D13: =Mixed!AS22 -> 3 | E13: =Mixed!AT22 -> 2 | F13: =Mixed!AU22 -> 48 | G13: =Mixed!AV22 -> 37 | H13: =Mixed!AW22 -> 19 | I13: =Mixed!AX22 -> 3
A14: =Mixed!AP23 -> Wick | B14: =Mixed!AQ23 -> 8 | C14: =Mixed!AR23 -> 5 | D14: =Mixed!AS23 -> 2 | E14: =Mixed!AT23 -> 1 | F14: =Mixed!AU23 -> 49 | G14: =Mixed!AV23 -> 47 | H14: =Mixed!AW23 -> 19 | I14: =Mixed!AX23 -> 4
A15: =Mixed!AP24 -> Coyotes Orange | B15: =Mixed!AQ24 -> 9 | C15: =Mixed!AR24 -> 4 | D15: =Mixed!AS24 -> 4 | E15: =Mixed!AT24 -> 1 | F15: =Mixed!AU24 -> 41 | G15: =Mixed!AV24 -> 47 | H15: =Mixed!AW24 -> 18 | I15: =Mixed!AX24 -> 5
A16: =Mixed!AP25 -> Introteach | B16: =Mixed!AQ25 -> 9 | C16: =Mixed!AR25 -> 5 | D16: =Mixed!AS25 -> 2 | E16: =Mixed!AT25 -> 0 | F16: =Mixed!AU25 -> 43 | G16: =Mixed!AV25 -> 45 | H16: =Mixed!AW25 -> 17 | I16: =Mixed!AX25 -> 6
A17: =Mixed!AP26 -> Maul by Myself | B17: =Mixed!AQ26 -> 8 | C17: =Mixed!AR26 -> 4 | D17: =Mixed!AS26 -> 3 | E17: =Mixed!AT26 -> 1 | F17: =Mixed!AU26 -> 40 | G17: =Mixed!AV26 -> 31 | H17: =Mixed!AW26 -> 17 | I17: =Mixed!AX26 -> 7
A18: =Mixed!AP27 -> Plasmawr | B18: =Mixed!AQ27 -> 8 | C18: =Mixed!AR27 -> 2 | D18: =Mixed!AS27 -> 3 | E18: =Mixed!AT27 -> 2 | F18: =Mixed!AU27 -> 31 | G18: =Mixed!AV27 -> 40 | H18: =Mixed!AW27 -> 13 | I18: =Mixed!AX27 -> 8
A19: =Mixed!AP28 -> Arup | B19: =Mixed!AQ28 -> 8 | C19: =Mixed!AR28 -> 2 | D19: =Mixed!AS28 -> 4 | E19: =Mixed!AT28 -> 0 | F19: =Mixed!AU28 -> 30 | G19: =Mixed!AV28 -> 50 | H19: =Mixed!AW28 -> 10 | I19: =Mixed!AX28 -> 9
A20: =Mixed!AP29 -> bye | B20: =Mixed!AQ29 -> 9 | C20: =Mixed!AR29 -> 0 | D20: =Mixed!AS29 -> 0 | E20: =Mixed!AT29 -> 0 | F20: =Mixed!AU29 -> 5 | G20: =Mixed!AV29 -> 40 | H20: =Mixed!AW29 -> 0 | I20: =Mixed!AX29 -> 10

Sheet Men
A1: Mon Mens 1 | B1: K1w1 Dragons Men | E1: Coyote Young guns | H1: Mavericks | K1: Laser Bears | N1: K1w1 Dragons Men | Q1: Coyote Young guns | T1: Mavericks | W1: Laser Bears | Z1: Result | AD1: Points
A2: team | B2: R | C2: F | D2: A | E2: R | F2: F | G2: A | H2: R | I2: F | J2: A | K2: R | L2: F | M2: A | N2: R | O2: F | P2: A | Q2: R | R2: F | S2: A | T2: R | U2: F | V2: A | W2: R | X2: F | Y2: A | Z2: P | AA2: W | AB2: L | AC2: D | AD2: F | AE2: A | AF2: P | AG2: Position (manual entry) | AT2: Played | AU2: Win | AV2: Loss | AW2: Draw | AX2: For | AY2: Against | AZ2: Points | BA2: Position | BC2: Semi Finals
A3: K1w1 Dragons Men | B3: X | C3: X | D3: X | E3: W | F3: 7 | G3: 5 | H3: W | I3: 9 | J3: 2 | K3: W | L3: 7 | M3: 4 | N3: X | O3: X | P3: X | Q3: W | R3: 7 | S3: 3 | T3: W | U3: 10 | V3: 1 | W3: W | X3: 11 | Y3: 3 | Z3: 6 | AA3: 6 | AB3: 0 | AC3: 0 | AD3: 51 | AE3: 18 | AF3: 18 | AG3: 1 | AS3: K1w1 Dragons Men | AT3: 6 | AU3: 6 | AV3: 0 | AW3: 0 | AX3: 51 | AY3: 18 | AZ3: 18 | BA3: 1 | BC3: K1w1 Dragons Men | BD3: 6 | BE3: 1 | BF3: Mavericks
A4: Coyote Young guns | B4: L | C4: 5 | D4: 7 | E4: X | F4: X | G4: X | H4: W | I4: 9 | J4: 3 | K4: W | L4: 7 | M4: 1 | N4: L | O4: 3 | P4: 7 | Q4: X | R4: X | S4: X | T4: W | U4: 6 | V4: 3 | W4: W | X4: 10 | Y4: 4 | Z4: 6 | AA4: 4 | AB4: 2 | AC4: 0 | AD4: 40 | AE4: 25 | AF4: 14 | AG4: 2 | AS4: Coyote Young guns | AT4: 6 | AU4: 4 | AV4: 2 | AW4: 0 | AX4: 40 | AY4: 25 | AZ4: 14 | BA4: 2 | BC4: Coyote Young guns | BD4: 7 | BE4: 9 | BF4: Laser Bears
A5: Mavericks | B5: L | C5: 2 | D5: 9 | E5: L | F5: 3 | G5: 9 | H5: X | I5: X | J5: X | K5: L | L5: 5 | M5: 6 | N5: L | O5: 1 | P5: 10 | Q5: L | R5: 3 | S5: 6 | T5: X | U5: X | V5: X | W5: W | X5: 5 | Y5: 4 | Z5: 6 | AA5: 1 | AB5: 5 | AC5: 0 | AD5: 19 | AE5: 44 | AF5: 8 | AG5: 4 | AS5: Laser Bears | AT5: 6 | AU5: 1 | AV5: 5 | AW5: 0 | AX5: 22 | AY5: 45 | AZ5: 8 | BA5: 3
A6: Laser Bears | B6: L | C6: 4 | D6: 7 | E6: L | F6: 1 | G6: 7 | H6: W | I6: 6 | J6: 5 | K6: X | L6: X | M6: X | N6: L | O6: 3 | P6: 11 | Q6: L | R6: 4 | S6: 10 | T6: L | U6: 4 | V6: 5 | W6: X | X6: X | Y6: X | Z6: 6 | AA6: 1 | AB6: 5 | AC6: 0 | AD6: 22 | AE6: 45 | AF6: 8 | AG6: 3 | AS6: Mavericks | AT6: 6 | AU6: 1 | AV6: 5 | AW6: 0 | AX6: 19 | AY6: 44 | AZ6: 8 | BA6: 4 | BC6: Final
Z7: 0 | AA7: 0 | AB7: 0 | AC7: 0 | AD7: 0 | AE7: 0 | AF7: 0 | BC7: K1w1 Dragons Men | BF7: Laser Bears
Z8: 0 | AA8: 0 | AB8: 0 | AC8: 0 | AD8: 0 | AE8: 0 | AF8: 0
Z9: 0 | AA9: 0 | AB9: 0 | AC9: 0 | AD9: 0 | AE9: 0 | AF9: 0
A14: Mon Mens 2 | B14: Pentrebane Panthers | E14: Skippers | H14: Coyotes Men2 | K14: Puffins | N14: Wolf of Whistlers | Q14: Coyote Wmn2 | T14: Varsity Vandals Men | W14: Plasmawr Stags | Z14: 0 | AC14: 0 | AF14: Result | AJ14: Points
A15: team | B15: R | C15: F | D15: A | E15: R | F15: F | G15: A | H15: R | I15: F | J15: A | K15: R | L15: F | M15: A | N15: R | O15: F | P15: A | Q15: R | R15: F | S15: A | T15: R | U15: F | V15: A | W15: R | X15: F | Y15: A | Z15: R | AA15: F | AB15: A | AC15: R | AD15: F | AE15: A | AF15: P | AG15: W | AH15: L | AI15: D | AJ15: F | AK15: A | AL15: P | AM15: Position (manual entry) | AT15: Played | AU15: Win | AV15: Loss | AW15: Draw | AX15: For | AY15: Against | AZ15: Points | BA15: Position | BC15: Semi Finals
A16: Pentrebane Panthers | B16: X | C16: X | D16: X | E16: L | F16: 1 | G16: 2 | H16: L | I16: 5 | J16: 6 | K16: W | L16: 7 | M16: 4 | N16: L | O16: 1 | P16: 9 | Q16: W | R16: 7 | S16: 6 | T16: L | U16: 2 | V16: 6 | W16: W | X16: 3 | Y16: 2 | AF16: 7 | AG16: 3 | AH16: 4 | AI16: 0 | AJ16: 26 | AK16: 35 | AL16: 13 | AM16: 4 | AS16: Skippers | AT16: 7 | AU16: 6 | AV16: 1 | AW16: 0 | AX16: 37 | AY16: 24 | AZ16: 19 | BA16: 1 | BC16: Skippers | BF16: Pentrebane Panthers
A17: Skippers | B17: W | C17: 2 | D17: 1 | E17: X | F17: X | G17: X | H17: W | I17: 5 | J17: 2 | K17: W | L17: 6 | M17: 4 | N17: L | O17: 6 | P17: 7 | Q17: W | R17: 8 | S17: 3 | T17: W | U17: 7 | V17: 6 | W17: W | X17: 3 | Y17: 1 | AF17: 7 | AG17: 6 | AH17: 1 | AI17: 0 | AJ17: 37 | AK17: 24 | AL17: 19 | AM17: 1 | AS17: Varsity Vandals Men | AT17: 7 | AU17: 5 | AV17: 2 | AW17: 0 | AX17: 42 | AY17: 26 | AZ17: 17 | BA17: 2 | BC17: Varsity Vandals Men | BF17: Puffins
A18: Coyotes Men2 | B18: W | C18: 6 | D18: 5 | E18: L | F18: 2 | G18: 5 | H18: X | I18: X | J18: X | K18: L | L18: 6 | M18: 8 | N18: W | O18: 5 | P18: 0 | Q18: L | R18: 2 | S18: 3 | T18: L | U18: 3 | V18: 7 | W18: L | X18: 4 | Y18: 9 | AF18: 7 | AG18: 2 | AH18: 5 | AI18: 0 | AJ18: 28 | AK18: 37 | AL18: 11 | AM18: 7 | AS18: Puffins | AT18: 7 | AU18: 4 | AV18: 3 | AW18: 0 | AX18: 39 | AY18: 40 | AZ18: 15 | BA18: 3
A19: Puffins | B19: L | C19: 4 | D19: 7 | E19: L | F19: 4 | G19: 6 | H19: W | I19: 8 | J19: 6 | K19: X | L19: X | M19: X | N19: W | O19: 7 | P19: 6 | Q19: W | R19: 8 | S19: 5 | T19: W | U19: 4 | V19: 3 | W19: L | X19: 4 | Y19: 7 | AF19: 7 | AG19: 4 | AH19: 3 | AI19: 0 | AJ19: 39 | AK19: 40 | AL19: 15 | AM19: 3 | AS19: Pentrebane Panthers | AT19: 7 | AU19: 3 | AV19: 4 | AW19: 0 | AX19: 26 | AY19: 35 | AZ19: 13 | BA19: 4 | BC19: Final
A20: Wolf of Whistlers | B20: W | C20: 9 | D20: 1 | E20: W | F20: 7 | G20: 6 | H20: F | I20: 0 | J20: 5 | K20: L | L20: 6 | M20: 7 | N20: X | O20: X | P20: X | Q20: F | R20: 0 | S20: 5 | T20: L | U20: 4 | V20: 5 | W20: L | X20: 5 | Y20: 6 | AF20: 7 | AG20: 2 | AH20: 3 | AI20: 0 | AJ20: 31 | AK20: 35 | AL20: 9 | AM20: 8 | AS20: Coyote Wmn2 | AT20: 7 | AU20: 3 | AV20: 4 | AW20: 0 | AX20: 33 | AY20: 39 | AZ20: 13 | BA20: 5
A21: Coyote Wmn2 | B21: L | C21: 6 | D21: 7 | E21: L | F21: 3 | G21: 8 | H21: W | I21: 3 | J21: 2 | K21: L | L21: 5 | M21: 8 | N21: W | O21: 5 | P21: 0 | Q21: X | R21: X | S21: X | T21: L | U21: 3 | V21: 7 | W21: W | X21: 8 | Y21: 7 | AF21: 7 | AG21: 3 | AH21: 4 | AI21: 0 | AJ21: 33 | AK21: 39 | AL21: 13 | AM21: 5 | AS21: Plasmawr Stags | AT21: 7 | AU21: 3 | AV21: 4 | AW21: 0 | AX21: 35 | AY21: 35 | AZ21: 13 | BA21: 6
A22: Varsity Vandals Men | B22: W | C22: 6 | D22: 2 | E22: L | F22: 6 | G22: 7 | H22: W | I22: 7 | J22: 3 | K22: L | L22: 3 | M22: 4 | N22: W | O22: 5 | P22: 4 | Q22: W | R22: 7 | S22: 3 | T22: X | U22: X | V22: X | W22: W | X22: 8 | Y22: 3 | AF22: 7 | AG22: 5 | AH22: 2 | AI22: 0 | AJ22: 42 | AK22: 26 | AL22: 17 | AM22: 2 | AS22: Coyotes Men2 | AT22: 7 | AU22: 2 | AV22: 5 | AW22: 0 | AX22: 28 | AY22: 37 | AZ22: 11 | BA22: 7
A23: Plasmawr Stags | B23: L | C23: 2 | D23: 3 | E23: L | F23: 1 | G23: 3 | H23: W | I23: 9 | J23: 4 | K23: W | L23: 7 | M23: 4 | N23: W | O23: 6 | P23: 5 | Q23: L | R23: 7 | S23: 8 | T23: L | U23: 3 | V23: 8 | W23: X | X23: X | Y23: X | AF23: 7 | AG23: 3 | AH23: 4 | AI23: 0 | AJ23: 35 | AK23: 35 | AL23: 13 | AM23: 6 | AS23: Wolf of Whistlers | AT23: 7 | AU23: 2 | AV23: 3 | AW23: 0 | AX23: 31 | AY23: 35 | AZ23: 9 | BA23: 8
Z24: X | AA24: X | AB24: X | AF24: 0 | AG24: 0 | AH24: 0 | AI24: 0 | AJ24: 0 | AK24: 0 | AL24: 0
AC25: X | AD25: X | AE25: X | AF25: 0 | AG25: 0 | AH25: 0 | AI25: 0 | AJ25: 0 | AK25: 0 | AL25: 0
A34: Mon Mens 3 | B34: ARUP | E34: Goblins | H34: Stout Stormers | K34: Touch of Class | N34: Cricc | Q34: Old Ferrets | T34: Cewri Canna | W34: Coyote Jnrs | Z34: 0 | AC34: Result | AG34: Points
A35: team | B35: R | C35: F | D35: A | E35: R | F35: F | G35: A | H35: R | I35: F | J35: A | K35: R | L35: F | M35: A | N35: R | O35: F | P35: A | Q35: R | R35: F | S35: A | T35: R | U35: F | V35: A | W35: R | X35: F | Y35: A | Z35: R | AA35: F | AB35: A | AC35: P | AD35: W | AE35: L | AF35: D | AG35: F | AH35: A | AI35: P | AJ35: Position (manual entry) | AT35: Played | AU35: Win | AV35: Loss | AW35: Draw | AX35: For | AY35: Against | AZ35: Points | BA35: Position | BC35: Semi Finals
A36: ARUP | B36: X | C36: X | D36: X | E36: W | F36: 8 | G36: 4 | H36: W | I36: 10 | J36: 5 | K36: W | L36: 8 | M36: 1 | N36: L | O36: 3 | P36: 6 | Q36: L | R36: 6 | S36: 8 | T36: L | U36: 4 | V36: 8 | W36: W | X36: 16 | Y36: 6 | AC36: 7 | AD36: 4 | AE36: 3 | AF36: 0 | AG36: 55 | AH36: 38 | AI36: 15 | AJ36: 4 | AS36: Cricc | AT36: 7 | AU36: 5 | AV36: 0 | AW36: 2 | AX36: 34 | AY36: 20 | AZ36: 19 | BA36: 1 | BC36: Cricc | BF36: ARUP
A37: Goblins | B37: L | C37: 4 | D37: 8 | E37: X | F37: X | G37: X | H37: L | I37: 4 | J37: 6 | K37: W | L37: 9 | M37: 3 | N37: L | O37: 3 | P37: 5 | Q37: L | R37: 2 | S37: 7 | T37: L | U37: 3 | V37: 5 | W37: W | X37: 6 | Y37: 4 | AC37: 7 | AD37: 2 | AE37: 5 | AF37: 0 | AG37: 31 | AH37: 38 | AI37: 11 | AJ37: 7 | AS37: Old Ferrets | AT37: 7 | AU37: 5 | AV37: 1 | AW37: 1 | AX37: 38 | AY37: 25 | AZ37: 18 | BA37: 2 | BC37: Old Ferrets | BF37: Cewri Canna
A38: Stout Stormers | B38: L | C38: 5 | D38: 10 | E38: W | F38: 6 | G38: 4 | H38: X | I38: X | J38: X | K38: W | L38: 7 | M38: 3 | N38: L | O38: 4 | P38: 6 | Q38: L | R38: 2 | S38: 3 | T38: L | U38: 5 | V38: 8 | W38: L | X38: 4 | Y38: 7 | AC38: 7 | AD38: 2 | AE38: 5 | AF38: 0 | AG38: 33 | AH38: 41 | AI38: 11 | AJ38: 6 | AS38: Cewri Canna | AT38: 7 | AU38: 5 | AV38: 1 | AW38: 0 | AX38: 40 | AY38: 31 | AZ38: 16 | BA38: 3
A39: Touch of Class | B39: L | C39: 1 | D39: 8 | E39: L | F39: 3 | G39: 9 | H39: L | I39: 3 | J39: 7 | K39: X | L39: X | M39: X | N39: L | O39: 3 | P39: 5 | Q39: L | R39: 2 | S39: 8 | T39: W | U39: 12 | V39: 6 | W39: L | X39: 3 | Y39: 6 | AC39: 7 | AD39: 1 | AE39: 6 | AF39: 0 | AG39: 27 | AH39: 49 | AI39: 9 | AJ39: 8 | AS39: ARUP | AT39: 7 | AU39: 4 | AV39: 3 | AW39: 0 | AX39: 55 | AY39: 38 | AZ39: 15 | BA39: 4 | BC39: Final
A40: Cricc | B40: W | C40: 6 | D40: 3 | E40: W | F40: 5 | G40: 3 | H40: W | I40: 6 | J40: 4 | K40: W | L40: 5 | M40: 3 | N40: X | O40: X | P40: X | Q40: D | R40: 4 | S40: 4 | T40: W | U40: 5 | V40: 0 | W40: D | X40: 3 | Y40: 3 | AC40: 7 | AD40: 5 | AE40: 0 | AF40: 2 | AG40: 34 | AH40: 20 | AI40: 19 | AJ40: 1 | AS40: Coyote Jnrs | AT40: 7 | AU40: 3 | AV40: 3 | AW40: 1 | AX40: 34 | AY40: 38 | AZ40: 14 | BA40: 5
A41: Old Ferrets | B41: W | C41: 8 | D41: 6 | E41: W | F41: 7 | G41: 2 | H41: W | I41: 3 | J41: 2 | K41: W | L41: 8 | M41: 2 | N41: D | O41: 4 | P41: 4 | Q41: X | R41: X | S41: X | T41: W | U41: 6 | V41: 3 | W41: L | X41: 2 | Y41: 6 | AC41: 7 | AD41: 5 | AE41: 1 | AF41: 1 | AG41: 38 | AH41: 25 | AI41: 18 | AJ41: 2 | AS41: Stout Stormers | AT41: 7 | AU41: 2 | AV41: 5 | AW41: 0 | AX41: 33 | AY41: 41 | AZ41: 11 | BA41: 6
A42: Cewri Canna | B42: W | C42: 8 | D42: 4 | E42: W | F42: 5 | G42: 3 | H42: W | I42: 8 | J42: 5 | K42: W | L42: 12 | M42: 6 | N42: F | O42: 0 | P42: 5 | Q42: L | R42: 3 | S42: 6 | T42: X | U42: X | V42: X | W42: W | X42: 4 | Y42: 2 | AC42: 7 | AD42: 5 | AE42: 1 | AF42: 0 | AG42: 40 | AH42: 31 | AI42: 16 | AJ42: 3 | AS42: Goblins | AT42: 7 | AU42: 2 | AV42: 5 | AW42: 0 | AX42: 31 | AY42: 38 | AZ42: 11 | BA42: 7
A43: Coyote Jnrs | B43: L | C43: 6 | D43: 16 | E43: L | F43: 4 | G43: 6 | H43: W | I43: 7 | J43: 4 | K43: W | L43: 6 | M43: 3 | N43: D | O43: 3 | P43: 3 | Q43: W | R43: 6 | S43: 2 | T43: L | U43: 2 | V43: 4 | W43: X | X43: X | Y43: X | AC43: 7 | AD43: 3 | AE43: 3 | AF43: 1 | AG43: 34 | AH43: 38 | AI43: 14 | AJ43: 5 | AS43: Touch of Class | AT43: 7 | AU43: 1 | AV43: 6 | AW43: 0 | AX43: 27 | AY43: 49 | AZ43: 9 | BA43: 8
Z44: X | AA44: X | AB44: X | AC44: 0 | AD44: 0 | AE44: 0 | AF44: 0 | AG44: 0 | AH44: 0 | AI44: 0

Sheet Women
A1: Mon Womens | B1: Coyote Ladies1 | E1: Coyote Pups1 | H1: Vandals Merched | K1: Kiwi Dragons W | N1: Coyote Pups2 | Q1: Coyote Ladies2 | T1: Kiwi Dragons W2 | W1: bye | Z1: Result | AD1: Points
A2: team | B2: R | C2: F | D2: A | E2: R | F2: F | G2: A | H2: R | I2: F | J2: A | K2: R | L2: F | M2: A | N2: R | O2: F | P2: A | Q2: R | R2: F | S2: A | T2: R | U2: F | V2: A | W2: R | X2: F | Y2: A | Z2: P | AA2: W | AB2: L | AC2: D | AD2: F | AE2: A | AF2: P | AG2: Position (manual entry) | AK2: Played | AL2: Win | AM2: Loss | AN2: Draw | AO2: For | AP2: Against | AQ2: Points | AR2: Position | AT2: Semi Finals
A3: Coyote Ladies1 | B3: X | C3: X | D3: X | E3: W | F3: 8 | G3: 2 | H3: W | I3: 5 | J3: 0 | K3: L | L3: 2 | M3: 5 | N3: W | O3: 4 | P3: 3 | Q3: L | R3: 1 | S3: 12 | T3: D | U3: 5 | V3: 5 | W3: W | X3: 5 | Y3: 0 | Z3: 7 | AA3: 4 | AB3: 2 | AC3: 1 | AD3: 30 | AE3: 27 | AF3: 16 | AG3: 4 | AJ3: Kiwi Dragons W | AK3: 7 | AL3: 7 | AM3: 0 | AN3: 0 | AO3: 48 | AP3: 10 | AQ3: 21 | AR3: 1 | AT3: Kiwi Dragons W | AW3: Coyote Ladies1
A4: Coyote Pups1 | B4: L | C4: 2 | D4: 8 | E4: X | F4: X | G4: X | H4: L | I4: 1 | J4: 6 | K4: L | L4: 0 | M4: 9 | N4: L | O4: 3 | P4: 9 | Q4: L | R4: 0 | S4: 5 | T4: L | U4: 2 | V4: 10 | W4: W | X4: 5 | Y4: 0 | Z4: 7 | AA4: 1 | AB4: 6 | AC4: 0 | AD4: 13 | AE4: 47 | AF4: 9 | AG4: 7 | AJ4: Kiwi Dragons W2 | AK4: 7 | AL4: 5 | AM4: 1 | AN4: 1 | AO4: 44 | AP4: 15 | AQ4: 18 | AR4: 2 | AT4: Kiwi Dragons W2 | AW4: Coyote Ladies2
A5: Vandals Merched | B5: F | C5: 0 | D5: 5 | E5: W | F5: 6 | G5: 1 | H5: X | I5: X | J5: X | K5: L | L5: 0 | M5: 7 | N5: W | O5: 5 | P5: 1 | Q5: L | R5: 0 | S5: 7 | T5: L | U5: 1 | V5: 8 | W5: W | X5: 5 | Y5: 0 | Z5: 7 | AA5: 3 | AB5: 3 | AC5: 0 | AD5: 17 | AE5: 29 | AF5: 12 | AG5: 5 | AJ5: Coyote Ladies2 | AK5: 7 | AL5: 5 | AM5: 2 | AN5: 0 | AO5: 42 | AP5: 16 | AQ5: 17 | AR5: 3
A6: Kiwi Dragons W | B6: W | C6: 5 | D6: 2 | E6: W | F6: 9 | G6: 0 | H6: W | I6: 7 | J6: 0 | K6: X | L6: X | M6: X | N6: W | O6: 10 | P6: 1 | Q6: W | R6: 7 | S6: 4 | T6: W | U6: 5 | V6: 3 | W6: W | X6: 5 | Y6: 0 | Z6: 7 | AA6: 7 | AB6: 0 | AC6: 0 | AD6: 48 | AE6: 10 | AF6: 21 | AG6: 1 | AJ6: Coyote Ladies1 | AK6: 7 | AL6: 4 | AM6: 2 | AN6: 1 | AO6: 30 | AP6: 27 | AQ6: 16 | AR6: 4 | AT6: Final
A7: Coyote Pups2 | B7: L | C7: 3 | D7: 4 | E7: W | F7: 9 | G7: 3 | H7: L | I7: 1 | J7: 5 | K7: L | L7: 1 | M7: 10 | N7: X | O7: X | P7: X | Q7: L | R7: 2 | S7: 8 | T7: L | U7: 1 | V7: 7 | W7: W | X7: 5 | Y7: 0 | Z7: 7 | AA7: 2 | AB7: 5 | AC7: 0 | AD7: 22 | AE7: 37 | AF7: 11 | AG7: 6 | AJ7: Vandals Merched | AK7: 7 | AL7: 3 | AM7: 3 | AN7: 0 | AO7: 17 | AP7: 29 | AQ7: 12 | AR7: 5
A8: Coyote Ladies2 | B8: W | C8: 12 | D8: 1 | E8: W | F8: 5 | G8: 0 | H8: W | I8: 7 | J8: 0 | K8: L | L8: 4 | M8: 7 | N8: W | O8: 8 | P8: 2 | Q8: X | R8: X | S8: X | T8: L | U8: 1 | V8: 6 | W8: W | X8: 5 | Y8: 0 | Z8: 7 | AA8: 5 | AB8: 2 | AC8: 0 | AD8: 42 | AE8: 16 | AF8: 17 | AG8: 3 | AJ8: Coyote Pups2 | AK8: 7 | AL8: 2 | AM8: 5 | AN8: 0 | AO8: 22 | AP8: 37 | AQ8: 11 | AR8: 6
A9: Kiwi Dragons W2 | B9: D | C9: 5 | D9: 5 | E9: W | F9: 10 | G9: 2 | H9: W | I9: 8 | J9: 1 | K9: L | L9: 3 | M9: 5 | N9: W | O9: 7 | P9: 1 | Q9: W | R9: 6 | S9: 1 | T9: X | U9: X | V9: X | W9: W | X9: 5 | Y9: 0 | Z9: 7 | AA9: 5 | AB9: 1 | AC9: 1 | AD9: 44 | AE9: 15 | AF9: 18 | AG9: 2 | AJ9: Coyote Pups1 | AK9: 7 | AL9: 1 | AM9: 6 | AN9: 0 | AO9: 13 | AP9: 47 | AQ9: 9 | AR9: 7
A10: bye | B10: F | C10: 0 | D10: 5 | E10: F | F10: 0 | G10: 5 | H10: F | I10: 0 | J10: 5 | K10: F | L10: 0 | M10: 5 | N10: F | O10: 0 | P10: 5 | Q10: F | R10: 0 | S10: 5 | T10: F | U10: 0 | V10: 5 | W10: X | X10: X | Y10: X | Z10: 7 | AA10: 0 | AB10: 0 | AC10: 0 | AD10: 0 | AE10: 35 | AF10: 0 | AG10: 8 | AJ10: bye | AK10: 7 | AL10: 0 | AM10: 0 | AN10: 0 | AO10: 0 | AP10: 35 | AQ10: 0 | AR10: 8

Sheet Mixed
A2: 1 | B2: Coyotes grey | E2: Kiwi Dragons | H2: Coyotes black | K2: Varsity Vandals | N2: Coyotes grey | Q2: Kiwi Dragons | T2: Coyotes black | W2: Varsity Vandals | AF2: Result | AJ2: Points | AP2: Row Labels | AQ2: Played | AR2: Win | AS2: Loss | AT2: Draw | AU2: For | AV2: Against | AW2: Points | AX2: Position | CG2: Semi Finals
A3: team | B3: R | C3: F | D3: A | E3: R | F3: F | G3: A | H3: R | I3: F | J3: A | K3: R | L3: F | M3: A | N3: R | O3: F | P3: A | Q3: R | R3: F | S3: A | T3: R | U3: F | V3: A | W3: R | X3: F | Y3: A | AF3: P | AG3: W | AH3: L | AI3: D | AJ3: F | AK3: A | AL3: P | AM3: Position (manual entry) | AP3: Kiwi Dragons | AQ3: 5 | AR3: 5 | AS3: 0 | AT3: 0 | AU3: 43 | AV3: 19 | AW3: 15 | AX3: 1
A4: Coyotes grey | B4: X | C4: X | D4: X | E4: L | F4: 3 | G4: 7 | H4: W | I4: 5 | J4: 0 | K4: W | L4: 7 | M4: 3 | N4: X | O4: X | P4: X | Q4: L | R4: 3 | S4: 6 | T4: W | U4: 11 | V4: 1 | W4: L | X4: 7 | Y4: 8 | AF4: 6 | AG4: 3 | AH4: 3 | AI4: 0 | AJ4: 36 | AK4: 25 | AL4: 12 | AM4: 3 | AP4: Varsity Vandals | AQ4: 5 | AR4: 2 | AS4: 3 | AT4: 0 | AU4: 32 | AV4: 36 | AW4: 9 | AX4: 2
A5: Kiwi Dragons | B5: W | C5: 7 | D5: 3 | E5: X | F5: X | G5: X | H5: W | I5: 10 | J5: 1 | K5: W | L5: 11 | M5: 5 | N5: W | O5: 6 | P5: 3 | Q5: X | R5: X | S5: X | T5: W | U5: 7 | V5: 4 | W5: W | X5: 9 | Y5: 7 | AF5: 6 | AG5: 6 | AH5: 0 | AI5: 0 | AJ5: 50 | AK5: 23 | AL5: 18 | AM5: 1 | AP5: Coyotes grey | AQ5: 4 | AR5: 2 | AS5: 2 | AT5: 0 | AU5: 24 | AV5: 17 | AW5: 8 | AX5: 3
A6: Coyotes black | B6: F | C6: 0 | D6: 5 | E6: L | F6: 1 | G6: 10 | H6: X | I6: X | J6: X | K6: L | L6: 5 | M6: 9 | N6: L | O6: 1 | P6: 11 | Q6: L | R6: 4 | S6: 7 | T6: X | U6: X | V6: X | W6: L | X6: 4 | Y6: 8 | AF6: 6 | AG6: 0 | AH6: 5 | AI6: 0 | AJ6: 15 | AK6: 50 | AL6: 5 | AM6: 4 | AP6: Coyotes black | AQ6: 4 | AR6: 0 | AS6: 4 | AT6: 0 | AU6: 11 | AV6: 38 | AW6: 4 | AX6: 4 | CG6: Final
A7: Varsity Vandals | B7: L | C7: 3 | D7: 7 | E7: L | F7: 5 | G7: 11 | H7: W | I7: 9 | J7: 5 | K7: X | L7: X | M7: X | N7: W | O7: 8 | P7: 7 | Q7: L | R7: 7 | S7: 9 | T7: W | U7: 8 | V7: 4 | W7: X | X7: X | Y7: X | AF7: 6 | AG7: 3 | AH7: 3 | AI7: 0 | AJ7: 40 | AK7: 43 | AL7: 12 | AM7: 2 | AP7: Grand Total | AQ7: 18 | AR7: 9 | AS7: 9 | AT7: 0 | AU7: 110 | AV7: 110 | AW7: 36 | AX7: 10 | CG7: =CG3 -> 0 | CJ7: =CJ4 -> 0
A8: Coyotes grey
A9: Kiwi Dragons
A10: Coyotes black
A11: Varsity Vandals
A18: 2 | B18: Coyotes Orange | E18: Maul by Myself | H18: Wick | K18: Introteach | N18: Plasmawr | Q18: Arup | T18: Coyotes White | W18: YGB y fro | Z18: KDT Juniors | AC18: bye | AF18: Result | AJ18: Points | CG18: Semi Finals
A19: team | B19: R | C19: F | D19: A | E19: R | F19: F | G19: A | H19: R | I19: F | J19: A | K19: R | L19: F | M19: A | N19: R | O19: F | P19: A | Q19: R | R19: F | S19: A | T19: R | U19: F | V19: A | W19: R | X19: F | Y19: A | Z19: R | AA19: F | AB19: A | AC19: R | AD19: F | AE19: A | AF19: P | AG19: W | AH19: L | AI19: D | AJ19: F | AK19: A | AL19: P | AM19: Position (manual entry) | AP19: Row Labels | AQ19: Played | AR19: Win | AS19: Loss | AT19: Draw | AU19: For | AV19: Against | AW19: Points | AX19: Position
A20: Coyotes Orange | B20: X | C20: X | D20: X | E20: W | F20: 5 | G20: 4 | H20: L | I20: 8 | J20: 13 | K20: L | L20: 4 | M20: 7 | N20: D | O20: 5 | P20: 5 | Q20: W | R20: 7 | S20: 4 | T20: W | U20: 5 | V20: 3 | W20: L | X20: 0 | Y20: 5 | Z20: L | AA20: 2 | AB20: 6 | AC20: W | AD20: 5 | AE20: 0 | AF20: 9 | AG20: 4 | AH20: 4 | AI20: 1 | AJ20: 41 | AK20: 47 | AL20: 18 | AM20: 5 | AP20: KDT Juniors | AQ20: 9 | AR20: 7 | AS20: 2 | AT20: 0 | AU20: 63 | AV20: 26 | AW20: 23 | AX20: 1
A21: Maul by Myself | B21: L | C21: 4 | D21: 5 | E21: X | F21: X | G21: X | H21: L | I21: 3 | J21: 5 | K21: L | L21: 9 | M21: 10 | N21: L | O21: 4 | P21: 7 | Q21: W | R21: 5 | S21: 0 | T21: D | U21: 4 | V21: 4 | W21: W | X21: 5 | Y21: 4 | Z21: W | AA21: 5 | AB21: 3 | AC21: W | AD21: 5 | AE21: 0 | AF21: 9 | AG21: 4 | AH21: 4 | AI21: 1 | AJ21: 44 | AK21: 38 | AL21: 18 | AM21: 6 | AP21: YGB y fro | AQ21: 9 | AR21: 6 | AS21: 2 | AT21: 1 | AU21: 50 | AV21: 27 | AW21: 22 | AX21: 2
A22: Wick | B22: W | C22: 13 | D22: 8 | E22: W | F22: 5 | G22: 3 | H22: X | I22: X | J22: X | K22: W | L22: 9 | M22: 8 | N22: D | O22: 4 | P22: 4 | Q22: W | R22: 5 | S22: 0 | T22: L | U22: 4 | V22: 12 | W22: L | X22: 4 | Y22: 8 | Z22: W | AA22: 5 | AB22: 4 | AC22: W | AD22: 5 | AE22: 0 | AF22: 9 | AG22: 6 | AH22: 2 | AI22: 1 | AJ22: 54 | AK22: 47 | AL22: 22 | AM22: 3 | AP22: Coyotes White | AQ22: 9 | AR22: 4 | AS22: 3 | AT22: 2 | AU22: 48 | AV22: 37 | AW22: 19 | AX22: 3 | CG22: Final
A23: Introteach | B23: W | C23: 7 | D23: 4 | E23: W | F23: 10 | G23: 9 | H23: L | I23: 8 | J23: 9 | K23: X | L23: X | M23: X | N23: F | O23: 0 | P23: 5 | Q23: W | R23: 7 | S23: 5 | T23: W | U23: 6 | V23: 2 | W23: F | X23: 0 | Y23: 5 | Z23: L | AA23: 0 | AB23: 6 | AC23: W | AD23: 5 | AE23: 0 | AF23: 9 | AG23: 5 | AH23: 2 | AI23: 0 | AJ23: 43 | AK23: 45 | AL23: 17 | AM23: 7 | AP23: Wick | AQ23: 8 | AR23: 5 | AS23: 2 | AT23: 1 | AU23: 49 | AV23: 47 | AW23: 19 | AX23: 4 | CG23: =CJ19 -> 0 | CJ23: =CJ20 -> 0
A24: Plasmawr | B24: D | C24: 5 | D24: 5 | E24: W | F24: 7 | G24: 4 | H24: D | I24: 4 | J24: 4 | K24: W | L24: 5 | M24: 0 | N24: X | O24: X | P24: X | Q24: L | R24: 4 | S24: 5 | T24: L | U24: 5 | V24: 10 | W24: F | X24: 0 | Y24: 5 | Z24: L | AA24: 3 | AB24: 11 | AC24: W | AD24: 5 | AE24: 0 | AF24: 9 | AG24: 3 | AH24: 3 | AI24: 2 | AJ24: 38 | AK24: 44 | AL24: 16 | AM24: 8 | AP24: Coyotes Orange | AQ24: 9 | AR24: 4 | AS24: 4 | AT24: 1 | AU24: 41 | AV24: 47 | AW24: 18 | AX24: 5
A25: Arup | B25: L | C25: 4 | D25: 7 | E25: F | F25: 0 | G25: 5 | H25: F | I25: 0 | J25: 5 | K25: L | L25: 5 | M25: 7 | N25: W | O25: 5 | P25: 4 | Q25: X | R25: X | S25: X | T25: F | U25: 0 | V25: 5 | W25: L | X25: 7 | Y25: 10 | Z25: L | AA25: 4 | AB25: 12 | AC25: W | AD25: 5 | AE25: 0 | AF25: 9 | AG25: 2 | AH25: 5 | AI25: 0 | AJ25: 30 | AK25: 55 | AL25: 11 | AM25: 9 | AP25: Introteach | AQ25: 9 | AR25: 5 | AS25: 2 | AT25: 0 | AU25: 43 | AV25: 45 | AW25: 17 | AX25: 6
A26: Coyotes White | B26: L | C26: 3 | D26: 5 | E26: D | F26: 4 | G26: 4 | H26: W | I26: 12 | J26: 4 | K26: L | L26: 2 | M26: 6 | N26: W | O26: 10 | P26: 5 | Q26: W | R26: 5 | S26: 0 | T26: X | U26: X | V26: X | W26: D | X26: 4 | Y26: 4 | Z26: L | AA26: 3 | AB26: 9 | AC26: W | AD26: 5 | AE26: 0 | AF26: 9 | AG26: 4 | AH26: 3 | AI26: 2 | AJ26: 48 | AK26: 37 | AL26: 19 | AM26: 4 | AP26: Maul by Myself | AQ26: 8 | AR26: 4 | AS26: 3 | AT26: 1 | AU26: 40 | AV26: 31 | AW26: 17 | AX26: 7
A27: YGB y fro | B27: W | C27: 5 | D27: 0 | E27: L | F27: 4 | G27: 5 | H27: W | I27: 8 | J27: 4 | K27: W | L27: 5 | M27: 0 | N27: W | O27: 5 | P27: 0 | Q27: W | R27: 10 | S27: 7 | T27: D | U27: 4 | V27: 4 | W27: X | X27: X | Y27: X | Z27: L | AA27: 4 | AB27: 7 | AC27: W | AD27: 5 | AE27: 0 | AF27: 9 | AG27: 6 | AH27: 2 | AI27: 1 | AJ27: 50 | AK27: 27 | AL27: 22 | AM27: 2 | AP27: Plasmawr | AQ27: 8 | AR27: 2 | AS27: 3 | AT27: 2 | AU27: 31 | AV27: 40 | AW27: 13 | AX27: 8
A28: KDT Juniors | B28: W | C28: 6 | D28: 2 | E28: L | F28: 3 | G28: 5 | H28: L | I28: 4 | J28: 5 | K28: W | L28: 6 | M28: 0 | N28: W | O28: 11 | P28: 3 | Q28: W | R28: 12 | S28: 4 | T28: W | U28: 9 | V28: 3 | W28: W | X28: 7 | Y28: 4 | Z28: X | AA28: X | AB28: X | AC28: W | AD28: 5 | AE28: 0 | AF28: 9 | AG28: 7 | AH28: 2 | AI28: 0 | AJ28: 63 | AK28: 26 | AL28: 23 | AM28: 1 | AP28: Arup | AQ28: 8 | AR28: 2 | AS28: 4 | AT28: 0 | AU28: 30 | AV28: 50 | AW28: 10 | AX28: 9
A29: bye | B29: F | C29: 0 | D29: 5 | E29: F | F29: 0 | G29: 5 | H29: F | I29: 5 | J29: 0 | K29: F | L29: 0 | M29: 5 | N29: F | O29: 0 | P29: 5 | Q29: F | R29: 0 | S29: 5 | T29: F | U29: 0 | V29: 5 | W29: F | X29: 0 | Y29: 5 | Z29: F | AA29: 0 | AB29: 5 | AC29: X | AD29: X | AE29: X | AF29: 9 | AG29: 0 | AH29: 0 | AI29: 0 | AJ29: 5 | AK29: 40 | AL29: 0 | AM29: 10 | AP29: bye | AQ29: 9 | AR29: 0 | AS29: 0 | AT29: 0 | AU29: 5 | AV29: 40 | AW29: 0 | AX29: 10
AP30: Grand Total | AQ30: 86 | AR30: 39 | AS30: 25 | AT30: 8 | AU30: 400 | AV30: 390 | AW30: 158 | AX30: 55
A32: 3 | B32: =A34 -> 0 | E32: =A35 -> 0 | H32: =A36 -> 0 | K32: =A37 -> 0 | N32: =A38 -> 0 | Q32: =A39 -> 0 | T32: =A40 -> 0 | Z32: =A41 -> 0 | AF32: Result | AJ32: Points | CG32: Semi Finals
A33: team | B33: R | C33: F | D33: A | E33: R | F33: F | G33: A | H33: R | I33: F | J33: A | K33: R | L33: F | M33: A | N33: R | O33: F | P33: A | Q33: R | R33: F | S33: A | T33: R | U33: F | V33: A | Z33: R | AA33: F | AB33: A | AF33: P | AG33: W | AH33: L | AI33: D | AJ33: F | AK33: A | AL33: P | AM33: Position (manual entry)
B34: X | C34: X | D34: X | E34: =IF(F34="","",IF(F34>G34,"W",IF(F34<G34,"L","D"))) | H34: =IF(I34="","",IF(I34>J34,"W",IF(I34<J34,"L","D"))) | K34: =IF(L34="","",IF(L34>M34,"W",IF(L34<M34,"L","D"))) | N34: =IF(O34="","",IF(O34>P34,"W",IF(O34<P34,"L","D"))) | Q34: =IF(R34="","",IF(R34>S34,"W",IF(R34<S34,"L","D"))) | T34: =IF(U34="","",IF(U34>V34,"W",IF(U34<V34,"L","D"))) | Z34: =IF(AA34="","",IF(AA34>AB34,"W",IF(AA34<AB34,"L","D"))) | AF34: =SUM(AG34:AI34)+COUNTIFS(B34:AB34,"f") -> 0 | AG34: =COUNTIFS(B34:AB34,"W") -> 0 | AH34: =COUNTIFS(B34:AB34,"L") -> 0 | AI34: =COUNTIFS(B34:AB34,"D") -> 0 | AJ34: =F34+I34+L34+O34+R34+U34+AA34 -> 0 | AK34: =G34+J34+M34+P34+S34+V34+AB34 -> 0 | AL34: =(AG34*3)+(AH34*1)+(AI34*2) -> 0
B35: =IF(C35="","",IF(C35>D35,"W",IF(C35<D35,"L","D"))) | E35: X | F35: X | G35: X | H35: =IF(I35="","",IF(I35>J35,"W",IF(I35<J35,"L","D"))) | K35: =IF(L35="","",IF(L35>M35,"W",IF(L35<M35,"L","D"))) | N35: =IF(O35="","",IF(O35>P35,"W",IF(O35<P35,"L","D"))) | Q35: =IF(R35="","",IF(R35>S35,"W",IF(R35<S35,"L","D"))) | T35: =IF(U35="","",IF(U35>V35,"W",IF(U35<V35,"L","D"))) | Z35: =IF(AA35="","",IF(AA35>AB35,"W",IF(AA35<AB35,"L","D"))) | AF35: =SUM(AG35:AI35)+COUNTIFS(B35:AB35,"f") -> 0 | AG35: =COUNTIFS(B35:AB35,"W") -> 0 | AH35: =COUNTIFS(B35:AB35,"L") -> 0 | AI35: =COUNTIFS(B35:AB35,"D") -> 0 | AJ35: =C35+I35+L35+O35+R35+U35+AA35 -> 0 | AK35: =D35+J35+M35+P35+S35+V35+AB35 -> 0 | AL35: =(AG35*3)+(AH35*1)+(AI35*2) -> 0
B36: =IF(C36="","",IF(C36>D36,"W",IF(C36<D36,"L","D"))) | E36: =IF(F36="","",IF(F36>G36,"W",IF(F36<G36,"L","D"))) | H36: X | I36: X | J36: X | K36: =IF(L36="","",IF(L36>M36,"W",IF(L36<M36,"L","D"))) | N36: =IF(O36="","",IF(O36>P36,"W",IF(O36<P36,"L","D"))) | Q36: =IF(R36="","",IF(R36>S36,"W",IF(R36<S36,"L","D"))) | T36: =IF(U36="","",IF(U36>V36,"W",IF(U36<V36,"L","D"))) | Z36: =IF(AA36="","",IF(AA36>AB36,"W",IF(AA36<AB36,"L","D"))) | AF36: =SUM(AG36:AI36)+COUNTIFS(B36:AB36,"f") -> 0 | AG36: =COUNTIFS(B36:AB36,"W") -> 0 | AH36: =COUNTIFS(B36:AB36,"L") -> 0 | AI36: =COUNTIFS(B36:AB36,"D") -> 0 | AJ36: =F36+C36+L36+O36+R36+U36+AA36 -> 0 | AK36: =G36+D36+M36+P36+S36+V36+AB36 -> 0 | AL36: =(AG36*3)+(AH36*1)+(AI36*2) -> 0 | CG36: Final
B37: =IF(C37="","",IF(C37>D37,"W",IF(C37<D37,"L","D"))) | E37: =IF(F37="","",IF(F37>G37,"W",IF(F37<G37,"L","D"))) | H37: =IF(I37="","",IF(I37>J37,"W",IF(I37<J37,"L","D"))) | K37: X | L37: X | M37: X | N37: =IF(O37="","",IF(O37>P37,"W",IF(O37<P37,"L","D"))) | Q37: =IF(R37="","",IF(R37>S37,"W",IF(R37<S37,"L","D"))) | T37: =IF(U37="","",IF(U37>V37,"W",IF(U37<V37,"L","D"))) | Z37: =IF(AA37="","",IF(AA37>AB37,"W",IF(AA37<AB37,"L","D"))) | AF37: =SUM(AG37:AI37)+COUNTIFS(B37:AB37,"f") -> 0 | AG37: =COUNTIFS(B37:AB37,"W") -> 0 | AH37: =COUNTIFS(B37:AB37,"L") -> 0 | AI37: =COUNTIFS(B37:AB37,"D") -> 0 | AJ37: =F37+I37+C37+O37+R37+U37+AA37 -> 0 | AK37: =G37+J37+D37+P37+S37+V37+AB37 -> 0 | AL37: =(AG37*3)+(AH37*1)+(AI37*2) -> 0 | CG37: =CG33 -> 0 | CJ37: =CG34 -> 0
B38: =IF(C38="","",IF(C38>D38,"W",IF(C38<D38,"L","D"))) | E38: =IF(F38="","",IF(F38>G38,"W",IF(F38<G38,"L","D"))) | H38: =IF(I38="","",IF(I38>J38,"W",IF(I38<J38,"L","D"))) | K38: =IF(L38="","",IF(L38>M38,"W",IF(L38<M38,"L","D"))) | N38: X | O38: X | P38: X | Q38: =IF(R38="","",IF(R38>S38,"W",IF(R38<S38,"L","D"))) | T38: =IF(U38="","",IF(U38>V38,"W",IF(U38<V38,"L","D"))) | Z38: =IF(AA38="","",IF(AA38>AB38,"W",IF(AA38<AB38,"L","D"))) | AF38: =SUM(AG38:AI38)+COUNTIFS(B38:AB38,"f") -> 0 | AG38: =COUNTIFS(B38:AB38,"W") -> 0 | AH38: =COUNTIFS(B38:AB38,"L") -> 0 | AI38: =COUNTIFS(B38:AB38,"D") -> 0 | AJ38: =F38+I38+L38+C38+R38+U38+AA38 -> 0 | AK38: =G38+J38+M38+D38+S38+V38+AB38 -> 0 | AL38: =(AG38*3)+(AH38*1)+(AI38*2) -> 0
B39: =IF(C39="","",IF(C39>D39,"W",IF(C39<D39,"L","D"))) | E39: =IF(F39="","",IF(F39>G39,"W",IF(F39<G39,"L","D"))) | H39: =IF(I39="","",IF(I39>J39,"W",IF(I39<J39,"L","D"))) | K39: =IF(L39="","",IF(L39>M39,"W",IF(L39<M39,"L","D"))) | N39: =IF(O39="","",IF(O39>P39,"W",IF(O39<P39,"L","D"))) | Q39: X | R39: X | S39: X | T39: =IF(U39="","",IF(U39>V39,"W",IF(U39<V39,"L","D"))) | Z39: =IF(AA39="","",IF(AA39>AB39,"W",IF(AA39<AB39,"L","D"))) | AF39: =SUM(AG39:AI39)+COUNTIFS(B39:AB39,"f") -> 0 | AG39: =COUNTIFS(B39:AB39,"W") -> 0 | AH39: =COUNTIFS(B39:AB39,"L") -> 0 | AI39: =COUNTIFS(B39:AB39,"D") -> 0 | AJ39: =F39+I39+L39+O39+C39+U39+AA39 -> 0 | AK39: =G39+J39+M39+P39+D39+V39+AB39 -> 0 | AL39: =(AG39*3)+(AH39*1)+(AI39*2) -> 0 | CG39: 3rd Place
B40: =IF(C40="","",IF(C40>D40,"W",IF(C40<D40,"L","D"))) | E40: =IF(F40="","",IF(F40>G40,"W",IF(F40<G40,"L","D"))) | H40: =IF(I40="","",IF(I40>J40,"W",IF(I40<J40,"L","D"))) | K40: =IF(L40="","",IF(L40>M40,"W",IF(L40<M40,"L","D"))) | N40: =IF(O40="","",IF(O40>P40,"W",IF(O40<P40,"L","D"))) | T40: X | U40: X | V40: X | Z40: =IF(AA40="","",IF(AA40>AB40,"W",IF(AA40<AB40,"L","D"))) | AF40: =SUM(AG40:AI40)+COUNTIFS(B40:AB40,"f") -> 0 | AG40: =COUNTIFS(B40:AB40,"W") -> 0 | AH40: =COUNTIFS(B40:AB40,"L") -> 0 | AI40: =COUNTIFS(B40:AB40,"D") -> 0 | AJ40: =F40+I40+L40+O40+R40+C40+AA40 -> 0 | AK40: =G40+J40+M40+P40+S40+D40+AB40 -> 0 | AL40: =(AG40*3)+(AH40*1)+(AI40*2) -> 0 | CG40: =CJ34 -> 0 | CJ40: =CJ33 -> 0
B41: =IF(C41="","",IF(C41>D41,"W",IF(C41<D41,"L","D"))) | E41: =IF(F41="","",IF(F41>G41,"W",IF(F41<G41,"L","D"))) | H41: =IF(I41="","",IF(I41>J41,"W",IF(I41<J41,"L","D"))) | K41: =IF(L41="","",IF(L41>M41,"W",IF(L41<M41,"L","D"))) | N41: =IF(O41="","",IF(O41>P41,"W",IF(O41<P41,"L","D"))) | Q41: =IF(R41="","",IF(R41>S41,"W",IF(R41<S41,"L","D"))) | T41: =IF(U41="","",IF(U41>V41,"W",IF(U41<V41,"L","D"))) | Z41: X | AA41: X | AB41: X | AF41: =SUM(AG41:AI41)+COUNTIFS(B41:AB41,"f") -> 0 | AG41: =COUNTIFS(B41:AB41,"W") -> 0 | AH41: =COUNTIFS(B41:AB41,"L") -> 0 | AI41: =COUNTIFS(B41:AB41,"D") -> 0 | AJ41: =F41+I41+L41+O41+R41+U41+C41 -> 0 | AK41: =G41+J41+M41+P41+S41+V41+D41 -> 0 | AL41: =(AG41*3)+(AH41*1)+(AI41*2) -> 0

Sheet Twilight
A1: DIV 1 | B1: KIWI D | C1: COYOTES | D1: LASER B | E1: KDT | G1: P | H1: W | I1: D | J1: L | K1: F | L1: A | M1: P
A2: KIWI DRAGONS | B2: XXX | C2: w 11 - 5 | D2: W 5 - 3 | E2: w 10 - 7 | G2: 3 | H2: 3 | K2: 26 | L2: 15 | M2: 9
A3: COYOTES A | B3: L 5 - 11 | C3: xxxxxxxxx | D3: W 5 - 0 | E3: D 7 - 7 | G3: 3 | H3: 1 | I3: 1 | J3: 1 | K3: 17 | L3: 18 | M3: 6
A4: LASER BEARS | B4: L 3 - 5 | C4: 0 - 5 | D4: XXXXXX | E4: L 5 - 7 | G4: 2 | J4: 3 | K4: 8 | L4: 17 | M4: 3
A5: KDT | B5: L 7 - 10 | C5: D 7 - 7 | D5: W 7 - 5 | E5: XXXXXX | G5: 3 | H5: 1 | I5: 1 | J5: 1 | K5: 21 | L5: 22 | M5: 6
G7: P | H7: W | I7: D | J7: L | K7: F | L7: A | M7: P | N7: TEAM
G8: 3 | H8: 3 | K8: 26 | L8: 15 | M8: 9 | N8: KIWI DRAGONS
G9: 3 | H9: 1 | I9: 1 | J9: 1 | K9: 21 | L9: 22 | M9: 6 | N9: KDT
G10: 3 | H10: 1 | I10: 1 | J10: 1 | K10: 17 | L10: 18 | M10: 6 | N10: COYOTES A
G11: 2 | J11: 3 | K11: 8 | L11: 17 | M11: 3 | N11: LASER BEARS
A13: DIV 2 | B13: STAGS | C13: COYOTE W | D13: WICK 2 | E13: SPITFIRES | F13: VANDALS | G13: P | H13: W | I13: D | J13: L | K13: F | L13: A | M13: P
A14: STAGS | B14: XXX | C14: W 15 - 4 | D14: W 8 - 6 | E14: L 2- 4 | F14: D 6 - 6 | G14: 4 | H14: 2 | I14: 1 | J14: 1 | K14: 31 | L14: 20 | M14: 9
A15: COYOTE W | B15: L 4 - 15 | C15: XXXXXX | D15: L 4 - 9 | E15: L 2 - 7 | F15: L 7 - 9 | G15: 4 | J15: 4 | K15: 17 | L15: 40 | M15: 4
A16: WICK 2 | B16: L 6 - 8 | C16: W 9 - 4 | D16: XXXXXXX | E16: L 5 - 8 | F16: L 3 - 7 | G16: 4 | H16: 1 | J16: 3 | K16: 22 | L16: 27 | M16: 6
A17: SPITFIRES | B17: W 4 - 2 | C17: W 7 - 2 | D17: W 8 - 5 | E17: XXXXXXX | F17: W 6 - 2 | G17: 4 | H17: 4 | K17: 25 | L17: 11 | M17: 12
A18: VANDALS | B18: D 6 - 6 | C18: W 9 - 7 | D18: W 7 - 3 | E18: L 2 - 6 | F18: XXXXXXX | G18: 4 | H18: 2 | I18: 1 | J18: 1 | K18: 24 | L18: 22 | M18: 9
G20: P | H20: W | I20: D | J20: L | K20: F | L20: A | M20: P | N20: TEAM
G21: 4 | H21: 4 | K21: 25 | L21: 11 | M21: 12 | N21: SPITFIRES
G22: 4 | H22: 2 | I22: 1 | J22: 1 | K22: 31 | L22: 20 | M22: 9 | N22: STAGS
A23: DIV 3 PLAOFFS | G23: 4 | H23: 2 | I23: 1 | J23: 1 | K23: 24 | L23: 22 | M23: 9 | N23: VANDALS
A24: COYOTES GIRLS | B24: Lost | C24: 05 08 | D24: Wick | G24: 4 | H24: 1 | J24: 3 | K24: 22 | L24: 27 | M24: 6 | N24: WICK 2
G25: 4 | J25: 4 | K25: 17 | L25: 40 | M25: 4 | N25: COYOTE W
A27: DIV 3 | B27: COY B | C27: WICK 3 | D27: COY0TES G | G27: P | H27: W | I27: D | J27: L | K27: F | L27: A | M27: P | N27: TEAM | P27: PLAYOFF
A28: COYOTES J BOYS | B28: XXXXXX | C28: L 5 - 6 | D28: W 7 - 4 | G28: 2 | H28: 1 | J28: 1 | K28: 12 | L28: 10 | M28: 4 | N28: COYOTES J BOYS | P28: WICK
A29: WICK 3 | B29: W 6 - 5 | C29: XXXXXX | D29: L 5 - 7 | G29: 2 | H29: 1 | J29: 1 | K29: 11 | L29: 12 | M29: 4 | N29: WICK 3
A30: COY0TES J GIRLS | B30: L 4 - 7 | C30: W 7 - 5 | D30: XXXXXXX | G30: 2 | H30: 1 | J30: 1 | K30: 11 | L30: 12 | M30: 4 | N30: COY0TES J GIRLS
